BEGIN:VCALENDAR
VERSION:2.0
PRODID:-//Sussex Beekeepers Association - ECPv6.15.20//NONSGML v1.0//EN
CALSCALE:GREGORIAN
METHOD:PUBLISH
X-WR-CALNAME:Sussex Beekeepers Association
X-ORIGINAL-URL:https://sbka.info
X-WR-CALDESC:Events for Sussex Beekeepers Association
REFRESH-INTERVAL;VALUE=DURATION:PT1H
X-Robots-Tag:noindex
X-PUBLISHED-TTL:PT1H
BEGIN:VTIMEZONE
TZID:Europe/London
BEGIN:DAYLIGHT
TZOFFSETFROM:+0000
TZOFFSETTO:+0100
TZNAME:BST
DTSTART:20230326T010000
END:DAYLIGHT
BEGIN:STANDARD
TZOFFSETFROM:+0100
TZOFFSETTO:+0000
TZNAME:GMT
DTSTART:20231029T010000
END:STANDARD
BEGIN:DAYLIGHT
TZOFFSETFROM:+0000
TZOFFSETTO:+0100
TZNAME:BST
DTSTART:20240331T010000
END:DAYLIGHT
BEGIN:STANDARD
TZOFFSETFROM:+0100
TZOFFSETTO:+0000
TZNAME:GMT
DTSTART:20241027T010000
END:STANDARD
BEGIN:DAYLIGHT
TZOFFSETFROM:+0000
TZOFFSETTO:+0100
TZNAME:BST
DTSTART:20250330T010000
END:DAYLIGHT
BEGIN:STANDARD
TZOFFSETFROM:+0100
TZOFFSETTO:+0000
TZNAME:GMT
DTSTART:20251026T010000
END:STANDARD
END:VTIMEZONE
BEGIN:VEVENT
DTSTART;TZID=Europe/London:20240308T193000
DTEND;TZID=Europe/London:20240308T213000
DTSTAMP:20260422T064801
CREATED:20240203T111310Z
LAST-MODIFIED:20250110T143934Z
UID:309-1709926200-1709933400@sbka.info
SUMMARY:Talk by Pam Hunter ‘Non-standard Medications for the Control of Bee Problems
DESCRIPTION:
URL:https://sbka.info/event/talk-by-pam-hunter-non-standard-medications-for-the-control-of-bee-problems/
LOCATION:Mountfield Village Hall\, Robertsbridge\, TN32 5LY
CATEGORIES:H&RBKA Event,HWBKA Event
END:VEVENT
END:VCALENDAR