BEGIN:VCALENDAR
VERSION:2.0
PRODID:-//Sussex Beekeepers Association - ECPv6.15.20//NONSGML v1.0//EN
CALSCALE:GREGORIAN
METHOD:PUBLISH
X-ORIGINAL-URL:https://sbka.info
X-WR-CALDESC:Events for Sussex Beekeepers Association
REFRESH-INTERVAL;VALUE=DURATION:PT1H
X-Robots-Tag:noindex
X-PUBLISHED-TTL:PT1H
BEGIN:VTIMEZONE
TZID:Europe/London
BEGIN:DAYLIGHT
TZOFFSETFROM:+0000
TZOFFSETTO:+0100
TZNAME:BST
DTSTART:20230326T010000
END:DAYLIGHT
BEGIN:STANDARD
TZOFFSETFROM:+0100
TZOFFSETTO:+0000
TZNAME:GMT
DTSTART:20231029T010000
END:STANDARD
BEGIN:DAYLIGHT
TZOFFSETFROM:+0000
TZOFFSETTO:+0100
TZNAME:BST
DTSTART:20240331T010000
END:DAYLIGHT
BEGIN:STANDARD
TZOFFSETFROM:+0100
TZOFFSETTO:+0000
TZNAME:GMT
DTSTART:20241027T010000
END:STANDARD
BEGIN:DAYLIGHT
TZOFFSETFROM:+0000
TZOFFSETTO:+0100
TZNAME:BST
DTSTART:20250330T010000
END:DAYLIGHT
BEGIN:STANDARD
TZOFFSETFROM:+0100
TZOFFSETTO:+0000
TZNAME:GMT
DTSTART:20251026T010000
END:STANDARD
END:VTIMEZONE
BEGIN:VEVENT
DTSTART;TZID=Europe/London:20240406T143000
DTEND;TZID=Europe/London:20240406T170000
DTSTAMP:20260422T034941
CREATED:20240203T111653Z
LAST-MODIFIED:20250110T143934Z
UID:316-1712413800-1712422800@sbka.info
SUMMARY:Combined Apiary Meeting & talk from Christine Stevens\, Preparing Exhibits for Showing
DESCRIPTION:
URL:https://sbka.info/event/combined-apiary-meeting-talk-from-christine-stevens-preparing-exhibits-for-showing/
LOCATION:Netherfield Village Hall\, Netherfield Road\, Battle\, East Sussex\, TN33 9QB 
CATEGORIES:H&RBKA Event,HWBKA Event
END:VEVENT
END:VCALENDAR