BEGIN:VCALENDAR
VERSION:2.0
PRODID:-//Sussex Beekeepers Association - ECPv6.15.20//NONSGML v1.0//EN
CALSCALE:GREGORIAN
METHOD:PUBLISH
X-ORIGINAL-URL:https://sbka.info
X-WR-CALDESC:Events for Sussex Beekeepers Association
REFRESH-INTERVAL;VALUE=DURATION:PT1H
X-Robots-Tag:noindex
X-PUBLISHED-TTL:PT1H
BEGIN:VTIMEZONE
TZID:Europe/London
BEGIN:DAYLIGHT
TZOFFSETFROM:+0000
TZOFFSETTO:+0100
TZNAME:BST
DTSTART:20240331T010000
END:DAYLIGHT
BEGIN:STANDARD
TZOFFSETFROM:+0100
TZOFFSETTO:+0000
TZNAME:GMT
DTSTART:20241027T010000
END:STANDARD
BEGIN:DAYLIGHT
TZOFFSETFROM:+0000
TZOFFSETTO:+0100
TZNAME:BST
DTSTART:20250330T010000
END:DAYLIGHT
BEGIN:STANDARD
TZOFFSETFROM:+0100
TZOFFSETTO:+0000
TZNAME:GMT
DTSTART:20251026T010000
END:STANDARD
BEGIN:DAYLIGHT
TZOFFSETFROM:+0000
TZOFFSETTO:+0100
TZNAME:BST
DTSTART:20260329T010000
END:DAYLIGHT
BEGIN:STANDARD
TZOFFSETFROM:+0100
TZOFFSETTO:+0000
TZNAME:GMT
DTSTART:20261025T010000
END:STANDARD
END:VTIMEZONE
BEGIN:VEVENT
DTSTART;TZID=Europe/London:20250318T190000
DTEND;TZID=Europe/London:20250318T210000
DTSTAMP:20260422T005225
CREATED:20250110T151348Z
LAST-MODIFIED:20250110T152018Z
UID:705-1742324400-1742331600@sbka.info
SUMMARY:From Forage to Honey Harvest; Factors Affecting the Productivity of Your Hive(s) John Farmer\, Eastbourne BKA
DESCRIPTION:
URL:https://sbka.info/event/from-forage-to-honey-harvest-factors-affecting-the-productivity-of-your-hives-john-farmer-eastbourne-bka/
LOCATION:St. George’s Church Hall\, 110 Eastbourne Road\, Polegate\, BN26 5DF
CATEGORIES:EBKA Event
END:VEVENT
END:VCALENDAR