BEGIN:VCALENDAR
VERSION:2.0
PRODID:-//Sussex Beekeepers Association - ECPv6.15.20//NONSGML v1.0//EN
CALSCALE:GREGORIAN
METHOD:PUBLISH
X-WR-CALNAME:Sussex Beekeepers Association
X-ORIGINAL-URL:https://sbka.info
X-WR-CALDESC:Events for Sussex Beekeepers Association
REFRESH-INTERVAL;VALUE=DURATION:PT1H
X-Robots-Tag:noindex
X-PUBLISHED-TTL:PT1H
BEGIN:VTIMEZONE
TZID:Europe/London
BEGIN:DAYLIGHT
TZOFFSETFROM:+0000
TZOFFSETTO:+0100
TZNAME:BST
DTSTART:20230326T010000
END:DAYLIGHT
BEGIN:STANDARD
TZOFFSETFROM:+0100
TZOFFSETTO:+0000
TZNAME:GMT
DTSTART:20231029T010000
END:STANDARD
BEGIN:DAYLIGHT
TZOFFSETFROM:+0000
TZOFFSETTO:+0100
TZNAME:BST
DTSTART:20240331T010000
END:DAYLIGHT
BEGIN:STANDARD
TZOFFSETFROM:+0100
TZOFFSETTO:+0000
TZNAME:GMT
DTSTART:20241027T010000
END:STANDARD
BEGIN:DAYLIGHT
TZOFFSETFROM:+0000
TZOFFSETTO:+0100
TZNAME:BST
DTSTART:20250330T010000
END:DAYLIGHT
BEGIN:STANDARD
TZOFFSETFROM:+0100
TZOFFSETTO:+0000
TZNAME:GMT
DTSTART:20251026T010000
END:STANDARD
END:VTIMEZONE
BEGIN:VEVENT
DTSTART;TZID=Europe/London:20240218T093000
DTEND;TZID=Europe/London:20240218T123000
DTSTAMP:20260421T091927
CREATED:20240203T143639Z
LAST-MODIFIED:20250110T143934Z
UID:419-1708248600-1708259400@sbka.info
SUMMARY:2024 Beginners Session
DESCRIPTION:Sunday February 18th 9:30am-1pm (Beginners only)\nWelcome. Introductions\, Admin. (registration\, name badges\, fire procedure\, etc\,)\nIntroductory Presentation – An overview of the world of bees and beekeeping\nJoining the association. Information about the local association membership\, insurance & other benefits.\nPresentation of a hive and the functioning parts of a hive.\nWhere to keep bees. Where to purchase\, construction of hives\, etc.\nConcept of Beespace.\nImpact on hive design & use one example of a basic moveable frame hive.\nBasic bee equipment\, personal protective equipment\, tools: record keeping hive products.\nRecommended books.\nBee stings. allergy\, precautions & first aid
URL:https://sbka.info/event/2024-beginners-session/
CATEGORIES:HWBKA Event
END:VEVENT
BEGIN:VEVENT
DTSTART;TZID=Europe/London:20240218T130000
DTEND;TZID=Europe/London:20240218T160000
DTSTAMP:20260421T091927
CREATED:20240203T143656Z
LAST-MODIFIED:20250110T143934Z
UID:420-1708261200-1708272000@sbka.info
SUMMARY:2024 Training Session 1: Building Asian Hornet Traps
DESCRIPTION:2024 Training Session 1: Building Asian Hornet Traps\n \nPlease register by clicking <>\nBring empty 2L bottles if you can . . .
URL:https://sbka.info/event/2024-training-session-1-building-asian-hornet-traps/
CATEGORIES:HWBKA Event,Members' Workshop
END:VEVENT
END:VCALENDAR