BEGIN:VCALENDAR
VERSION:2.0
PRODID:-//Sussex Beekeepers Association - ECPv6.15.20//NONSGML v1.0//EN
CALSCALE:GREGORIAN
METHOD:PUBLISH
X-ORIGINAL-URL:https://sbka.info
X-WR-CALDESC:Events for Sussex Beekeepers Association
REFRESH-INTERVAL;VALUE=DURATION:PT1H
X-Robots-Tag:noindex
X-PUBLISHED-TTL:PT1H
BEGIN:VTIMEZONE
TZID:Europe/London
BEGIN:DAYLIGHT
TZOFFSETFROM:+0000
TZOFFSETTO:+0100
TZNAME:BST
DTSTART:20230326T010000
END:DAYLIGHT
BEGIN:STANDARD
TZOFFSETFROM:+0100
TZOFFSETTO:+0000
TZNAME:GMT
DTSTART:20231029T010000
END:STANDARD
BEGIN:DAYLIGHT
TZOFFSETFROM:+0000
TZOFFSETTO:+0100
TZNAME:BST
DTSTART:20240331T010000
END:DAYLIGHT
BEGIN:STANDARD
TZOFFSETFROM:+0100
TZOFFSETTO:+0000
TZNAME:GMT
DTSTART:20241027T010000
END:STANDARD
BEGIN:DAYLIGHT
TZOFFSETFROM:+0000
TZOFFSETTO:+0100
TZNAME:BST
DTSTART:20250330T010000
END:DAYLIGHT
BEGIN:STANDARD
TZOFFSETFROM:+0100
TZOFFSETTO:+0000
TZNAME:GMT
DTSTART:20251026T010000
END:STANDARD
END:VTIMEZONE
BEGIN:VEVENT
DTSTART;TZID=Europe/London:20240203T143000
DTEND;TZID=Europe/London:20240203T170000
DTSTAMP:20260421T092255
CREATED:20240203T112326Z
LAST-MODIFIED:20250110T143934Z
UID:327-1706970600-1706979600@sbka.info
SUMMARY:Talk by Daniel Morgan\, Bee Inspector – NBU & Asian Hornets\, plus foulbrood update
DESCRIPTION:03/02/2024 2.30pm\nTalk by Daniel Morgan\, Bee Inspector – NBU & Asian Hornets\, plus foulbrood update\nMountfield Village Hall
URL:https://sbka.info/event/talk-by-daniel-morgan-bee-inspector-nbu-asian-hornets-plus-foulbrood-update/
LOCATION:Mountfield Village Hall\, Robertsbridge\, TN32 5LY
CATEGORIES:H&RBKA Event,HWBKA Event
END:VEVENT
END:VCALENDAR